Package: FLAMES Version: 2.3.5 Command: /home/biocbuild/bbs-3.22-bioc/R/bin/R CMD INSTALL FLAMES StartedAt: 2025-10-13 15:56:32 -0400 (Mon, 13 Oct 2025) EndedAt: 2025-10-13 15:58:25 -0400 (Mon, 13 Oct 2025) EllapsedTime: 113.3 seconds RetCode: 0 Status: OK