Package: FLAMES Version: 2.3.5 Command: /home/biocbuild/bbs-3.22-bioc/R/bin/R CMD build --keep-empty-dirs --no-resave-data --md5 FLAMES StartedAt: 2025-10-14 17:38:38 -0400 (Tue, 14 Oct 2025) EndedAt: 2025-10-14 17:40:58 -0400 (Tue, 14 Oct 2025) EllapsedTime: 140.2 seconds RetCode: 0 Status: OK PackageFile: FLAMES_2.3.5.tar.gz PackageFileSize: 4.1 MiB