Package: FISHalyseR Version: 1.43.0 Command: /home/biocbuild/bbs-3.22-bioc/R/bin/R CMD build --keep-empty-dirs --no-resave-data --md5 FISHalyseR StartedAt: 2025-10-12 17:36:10 -0400 (Sun, 12 Oct 2025) EndedAt: 2025-10-12 17:36:27 -0400 (Sun, 12 Oct 2025) EllapsedTime: 17.0 seconds RetCode: 0 Status: OK PackageFile: FISHalyseR_1.43.0.tar.gz PackageFileSize: 782.4 KiB