Package: FISHalyseR Version: 1.43.0 Command: /Library/Frameworks/R.framework/Resources/bin/R CMD INSTALL FISHalyseR StartedAt: 2025-05-08 15:12:03 -0400 (Thu, 08 May 2025) EndedAt: 2025-05-08 15:12:13 -0400 (Thu, 08 May 2025) EllapsedTime: 9.6 seconds RetCode: 0 Status: OK