Package: FISHalyseR Version: 1.43.0 Command: /Library/Frameworks/R.framework/Resources/bin/R CMD check --install=check:FISHalyseR.install-out.txt --library=/Library/Frameworks/R.framework/Resources/library --no-vignettes --timings FISHalyseR_1.43.0.tar.gz StartedAt: 2025-05-09 20:46:32 -0400 (Fri, 09 May 2025) EndedAt: 2025-05-09 20:47:26 -0400 (Fri, 09 May 2025) EllapsedTime: 53.9 seconds RetCode: 0 Status: WARNINGS CheckDir: FISHalyseR.Rcheck Warnings: 2