Package: FISHalyseR Version: 1.43.0 Command: /Library/Frameworks/R.framework/Resources/bin/R CMD build --keep-empty-dirs --no-resave-data FISHalyseR StartedAt: 2025-05-09 16:51:52 -0400 (Fri, 09 May 2025) EndedAt: 2025-05-09 16:52:22 -0400 (Fri, 09 May 2025) EllapsedTime: 29.7 seconds RetCode: 0 Status: OK PackageFile: FISHalyseR_1.43.0.tar.gz PackageFileSize: 781.5 KiB