Package: FISHalyseR Version: 1.43.0 Command: rm -rf FISHalyseR.buildbin-libdir && mkdir FISHalyseR.buildbin-libdir && /Users/biocbuild/BBS/utils/build-universal.sh FISHalyseR_1.43.0.tar.gz /Library/Frameworks/R.framework/Resources/bin/R FISHalyseR.buildbin-libdir StartedAt: 2025-05-10 00:46:40 -0400 (Sat, 10 May 2025) EndedAt: 2025-05-10 00:46:51 -0400 (Sat, 10 May 2025) EllapsedTime: 10.5 seconds RetCode: 0 Status: OK PackageFile: FISHalyseR_1.43.0.tgz PackageFileSize: 830.5 KiB