Package: FISHalyseR Version: 1.43.0 Command: rm -rf FISHalyseR.buildbin-libdir && mkdir FISHalyseR.buildbin-libdir && /Users/biocbuild/BBS/utils/build-universal.sh FISHalyseR_1.43.0.tar.gz /Library/Frameworks/R.framework/Resources/bin/R FISHalyseR.buildbin-libdir StartedAt: 2025-05-09 22:40:44 -0400 (Fri, 09 May 2025) EndedAt: 2025-05-09 22:40:47 -0400 (Fri, 09 May 2025) EllapsedTime: 3.0 seconds RetCode: 0 Status: OK PackageFile: FISHalyseR_1.43.0.tgz PackageFileSize: 830.9 KiB