Package: FGNet Version: 3.41.0 Command: /Library/Frameworks/R.framework/Resources/bin/R CMD check --install=check:FGNet.install-out.txt --library=/Library/Frameworks/R.framework/Resources/library --no-vignettes --timings FGNet_3.41.0.tar.gz StartedAt: 2025-02-16 20:20:24 -0500 (Sun, 16 Feb 2025) EndedAt: 2025-02-16 20:21:33 -0500 (Sun, 16 Feb 2025) EllapsedTime: 68.8 seconds RetCode: 0 Status: WARNINGS CheckDir: FGNet.Rcheck Warnings: 1