Package: FGNet Version: 3.41.0 Command: /Library/Frameworks/R.framework/Resources/bin/R CMD check --install=check:FGNet.install-out.txt --library=/Library/Frameworks/R.framework/Resources/library --no-vignettes --timings FGNet_3.41.0.tar.gz StartedAt: 2025-02-14 19:09:00 -0500 (Fri, 14 Feb 2025) EndedAt: 2025-02-14 19:09:24 -0500 (Fri, 14 Feb 2025) EllapsedTime: 24.2 seconds RetCode: 0 Status: WARNINGS CheckDir: FGNet.Rcheck Warnings: 1