Package: FELLA Version: 1.29.0 Command: chmod a+r FELLA -R && F:\biocbuild\bbs-3.22-bioc\R\bin\R.exe CMD build --keep-empty-dirs --no-resave-data FELLA StartedAt: 2025-08-14 20:10:19 -0400 (Thu, 14 Aug 2025) EndedAt: 2025-08-14 20:40:43 -0400 (Thu, 14 Aug 2025) EllapsedTime: 1823.3 seconds RetCode: 0 Status: OK PackageFile: FELLA_1.29.0.tar.gz PackageFileSize: 3.436 MiB