Package: FELLA Version: 1.29.0 Command: rm -rf FELLA.buildbin-libdir && mkdir FELLA.buildbin-libdir && F:\biocbuild\bbs-3.22-bioc\R\bin\R.exe CMD INSTALL --build --library=FELLA.buildbin-libdir FELLA_1.29.0.tar.gz StartedAt: 2025-08-15 10:16:06 -0400 (Fri, 15 Aug 2025) EndedAt: 2025-08-15 10:16:52 -0400 (Fri, 15 Aug 2025) EllapsedTime: 46.1 seconds RetCode: 0 Status: OK PackageFile: FELLA_1.29.0.zip PackageFileSize: 3.071 MiB