Package: FELLA Version: 1.29.0 Command: /Library/Frameworks/R.framework/Resources/bin/R CMD check --install=check:FELLA.install-out.txt --library=/Library/Frameworks/R.framework/Resources/library --no-vignettes --timings FELLA_1.29.0.tar.gz StartedAt: 2025-05-02 20:38:43 -0400 (Fri, 02 May 2025) EndedAt: 2025-05-02 20:42:16 -0400 (Fri, 02 May 2025) EllapsedTime: 212.8 seconds RetCode: 0 Status: OK CheckDir: FELLA.Rcheck Warnings: 0