Package: FEAST Version: 1.15.0 Command: /home/biocbuild/bbs-3.21-bioc/R/bin/R CMD build --keep-empty-dirs --no-resave-data FEAST StartedAt: 2025-02-03 17:22:38 -0500 (Mon, 03 Feb 2025) EndedAt: 2025-02-03 17:23:46 -0500 (Mon, 03 Feb 2025) EllapsedTime: 68.1 seconds RetCode: 0 Status: OK PackageFile: FEAST_1.15.0.tar.gz PackageFileSize: 3.509 MiB