Package: FEAST Version: 1.15.0 Command: /Library/Frameworks/R.framework/Resources/bin/R CMD INSTALL FEAST StartedAt: 2025-02-05 15:25:17 -0500 (Wed, 05 Feb 2025) EndedAt: 2025-02-05 15:25:55 -0500 (Wed, 05 Feb 2025) EllapsedTime: 38.0 seconds RetCode: 0 Status: OK