Package: FEAST Version: 1.15.0 Command: /Library/Frameworks/R.framework/Resources/bin/R CMD check --install=check:FEAST.install-out.txt --library=/Library/Frameworks/R.framework/Resources/library --no-vignettes --timings FEAST_1.15.0.tar.gz StartedAt: 2025-02-02 20:23:29 -0500 (Sun, 02 Feb 2025) EndedAt: 2025-02-02 20:27:05 -0500 (Sun, 02 Feb 2025) EllapsedTime: 216.1 seconds RetCode: 0 Status: OK CheckDir: FEAST.Rcheck Warnings: 0