Package: FEAST Version: 1.15.0 Command: /Library/Frameworks/R.framework/Resources/bin/R CMD build --keep-empty-dirs --no-resave-data FEAST StartedAt: 2025-02-02 16:38:55 -0500 (Sun, 02 Feb 2025) EndedAt: 2025-02-02 16:40:08 -0500 (Sun, 02 Feb 2025) EllapsedTime: 73.1 seconds RetCode: 0 Status: OK PackageFile: FEAST_1.15.0.tar.gz PackageFileSize: 3.456 MiB