Package: FEAST Version: 1.15.0 Command: rm -rf FEAST.buildbin-libdir && mkdir FEAST.buildbin-libdir && /Users/biocbuild/BBS/utils/build-universal.sh FEAST_1.15.0.tar.gz /Library/Frameworks/R.framework/Resources/bin/R FEAST.buildbin-libdir StartedAt: 2025-02-06 00:30:16 -0500 (Thu, 06 Feb 2025) EndedAt: 2025-02-06 00:30:59 -0500 (Thu, 06 Feb 2025) EllapsedTime: 44.0 seconds RetCode: 0 Status: OK PackageFile: FEAST_1.15.0.tgz PackageFileSize: 4.492 MiB