Package: FEAST Version: 1.15.0 Command: /home/biocbuild/R/R/bin/R CMD build --keep-empty-dirs --no-resave-data FEAST StartedAt: 2025-01-28 22:52:25 -0000 (Tue, 28 Jan 2025) EndedAt: 2025-01-28 22:53:58 -0000 (Tue, 28 Jan 2025) EllapsedTime: 93.1 seconds RetCode: 0 Status: OK PackageFile: FEAST_1.15.0.tar.gz PackageFileSize: 3.464 MiB