Package: FEAST Version: 1.15.0 Command: /Library/Frameworks/R.framework/Resources/bin/R CMD INSTALL FEAST StartedAt: 2025-01-31 15:15:35 -0500 (Fri, 31 Jan 2025) EndedAt: 2025-01-31 15:15:46 -0500 (Fri, 31 Jan 2025) EllapsedTime: 11.5 seconds RetCode: 0 Status: OK