Package: FEAST Version: 1.15.0 Command: /Library/Frameworks/R.framework/Resources/bin/R CMD build --keep-empty-dirs --no-resave-data FEAST StartedAt: 2025-02-05 16:20:19 -0500 (Wed, 05 Feb 2025) EndedAt: 2025-02-05 16:20:42 -0500 (Wed, 05 Feb 2025) EllapsedTime: 23.3 seconds RetCode: 0 Status: OK PackageFile: FEAST_1.15.0.tar.gz PackageFileSize: 3.456 MiB