Package: FEAST Version: 1.15.0 Command: rm -rf FEAST.buildbin-libdir && mkdir FEAST.buildbin-libdir && /Users/biocbuild/BBS/utils/build-universal.sh FEAST_1.15.0.tar.gz /Library/Frameworks/R.framework/Resources/bin/R FEAST.buildbin-libdir StartedAt: 2025-01-31 22:16:15 -0500 (Fri, 31 Jan 2025) EndedAt: 2025-01-31 22:16:28 -0500 (Fri, 31 Jan 2025) EllapsedTime: 13.3 seconds RetCode: 0 Status: OK PackageFile: FEAST_1.15.0.tgz PackageFileSize: 4.494 MiB