Package: ExpressionAtlas Version: 2.1.1 Command: /home/biocbuild/R/R/bin/R CMD INSTALL ExpressionAtlas StartedAt: 2025-10-16 22:14:12 -0000 (Thu, 16 Oct 2025) EndedAt: 2025-10-16 22:14:42 -0000 (Thu, 16 Oct 2025) EllapsedTime: 30.2 seconds RetCode: 0 Status: OK