Package: ExpressionAtlas Version: 2.1.1 Command: /home/biocbuild/R/R/bin/R CMD build --keep-empty-dirs --no-resave-data ExpressionAtlas StartedAt: 2025-10-17 01:07:34 -0000 (Fri, 17 Oct 2025) EndedAt: 2025-10-17 01:08:14 -0000 (Fri, 17 Oct 2025) EllapsedTime: 40.0 seconds RetCode: 0 Status: OK PackageFile: ExpressionAtlas_2.1.1.tar.gz PackageFileSize: 342.6 KiB