Package: ExploreModelMatrix Version: 1.21.2 Command: /home/biocbuild/R/R/bin/R CMD INSTALL ExploreModelMatrix StartedAt: 2025-10-09 21:05:25 -0000 (Thu, 09 Oct 2025) EndedAt: 2025-10-09 21:05:41 -0000 (Thu, 09 Oct 2025) EllapsedTime: 16.5 seconds RetCode: 0 Status: OK