Package: ExploreModelMatrix Version: 1.21.2 Command: /home/biocbuild/R/R/bin/R CMD build --keep-empty-dirs --no-resave-data ExploreModelMatrix StartedAt: 2025-10-10 00:31:09 -0000 (Fri, 10 Oct 2025) EndedAt: 2025-10-10 00:31:36 -0000 (Fri, 10 Oct 2025) EllapsedTime: 27.0 seconds RetCode: 0 Status: OK PackageFile: ExploreModelMatrix_1.21.2.tar.gz PackageFileSize: 2.454 MiB