Package: ExperimentSubset Version: 1.19.0 Command: /Library/Frameworks/R.framework/Resources/bin/R CMD INSTALL ExperimentSubset StartedAt: 2025-05-20 15:25:13 -0400 (Tue, 20 May 2025) EndedAt: 2025-05-20 15:25:58 -0400 (Tue, 20 May 2025) EllapsedTime: 45.2 seconds RetCode: 0 Status: OK