Package: ExperimentSubset Version: 1.19.0 Command: /Library/Frameworks/R.framework/Resources/bin/R CMD check --install=check:ExperimentSubset.install-out.txt --library=/Library/Frameworks/R.framework/Resources/library --no-vignettes --timings ExperimentSubset_1.19.0.tar.gz StartedAt: 2025-05-22 20:26:07 -0400 (Thu, 22 May 2025) EndedAt: 2025-05-22 20:32:00 -0400 (Thu, 22 May 2025) EllapsedTime: 353.1 seconds RetCode: 0 Status: OK CheckDir: ExperimentSubset.Rcheck Warnings: 0