Package: ExperimentSubset Version: 1.19.0 Command: rm -rf ExperimentSubset.buildbin-libdir && mkdir ExperimentSubset.buildbin-libdir && /Users/biocbuild/BBS/utils/build-universal.sh ExperimentSubset_1.19.0.tar.gz /Library/Frameworks/R.framework/Resources/bin/R ExperimentSubset.buildbin-libdir StartedAt: 2025-05-23 00:30:07 -0400 (Fri, 23 May 2025) EndedAt: 2025-05-23 00:30:57 -0400 (Fri, 23 May 2025) EllapsedTime: 49.8 seconds RetCode: 0 Status: OK PackageFile: ExperimentSubset_1.19.0.tgz PackageFileSize: 708.7 KiB