Package: ExperimentSubset Version: 1.19.0 Command: /Library/Frameworks/R.framework/Resources/bin/R CMD build --keep-empty-dirs --no-resave-data ExperimentSubset StartedAt: 2025-05-26 16:23:03 -0400 (Mon, 26 May 2025) EndedAt: 2025-05-26 16:23:23 -0400 (Mon, 26 May 2025) EllapsedTime: 19.2 seconds RetCode: 0 Status: OK PackageFile: ExperimentSubset_1.19.0.tar.gz PackageFileSize: 307.3 KiB