Package: ExperimentSubset Version: 1.19.0 Command: rm -rf ExperimentSubset.buildbin-libdir && mkdir ExperimentSubset.buildbin-libdir && /Users/biocbuild/BBS/utils/build-universal.sh ExperimentSubset_1.19.0.tar.gz /Library/Frameworks/R.framework/Resources/bin/R ExperimentSubset.buildbin-libdir StartedAt: 2025-05-26 22:24:36 -0400 (Mon, 26 May 2025) EndedAt: 2025-05-26 22:24:50 -0400 (Mon, 26 May 2025) EllapsedTime: 14.3 seconds RetCode: 0 Status: OK PackageFile: ExperimentSubset_1.19.0.tgz PackageFileSize: 709.4 KiB