Package: ExperimentHubData Version: 1.35.0 Command: rm -rf ExperimentHubData.buildbin-libdir && mkdir ExperimentHubData.buildbin-libdir && F:\biocbuild\bbs-3.22-bioc\R\bin\R.exe CMD INSTALL --build --library=ExperimentHubData.buildbin-libdir ExperimentHubData_1.35.0.tar.gz StartedAt: 2025-08-15 10:15:28 -0400 (Fri, 15 Aug 2025) EndedAt: 2025-08-15 10:16:56 -0400 (Fri, 15 Aug 2025) EllapsedTime: 87.7 seconds RetCode: 0 Status: OK PackageFile: ExperimentHubData_1.35.0.zip PackageFileSize: 521.5 KiB