Package: ExperimentHub Version: 2.99.5 Command: /home/biocbuild/R/R/bin/R CMD build --keep-empty-dirs --no-resave-data ExperimentHub StartedAt: 2025-09-29 23:55:08 -0000 (Mon, 29 Sep 2025) EndedAt: 2025-09-29 23:55:54 -0000 (Mon, 29 Sep 2025) EllapsedTime: 46.0 seconds RetCode: 0 Status: OK PackageFile: ExperimentHub_2.99.5.tar.gz PackageFileSize: 517.6 KiB