Package: ExperimentHub Version: 2.99.5 Command: chmod a+r ExperimentHub -R && F:\biocbuild\bbs-3.22-bioc\R\bin\R.exe CMD build --keep-empty-dirs --no-resave-data ExperimentHub StartedAt: 2025-08-14 20:06:01 -0400 (Thu, 14 Aug 2025) EndedAt: 2025-08-14 20:06:45 -0400 (Thu, 14 Aug 2025) EllapsedTime: 44.3 seconds RetCode: 0 Status: OK PackageFile: ExperimentHub_2.99.5.tar.gz PackageFileSize: 490.9 KiB