Package: ExperimentHub Version: 2.99.5 Maintainer: Bioconductor Package Maintainer MaintainerEmail: maintainer at bioconductor.org git_url: https://git.bioconductor.org/packages/ExperimentHub git_branch: devel git_last_commit: ecd291f git_last_commit_date: 2025-05-15 13:05:40 -0400 (Thu, 15 May 2025)