Package: ExiMiR Version: 2.49.0 Command: rm -rf ExiMiR.buildbin-libdir && mkdir ExiMiR.buildbin-libdir && /Users/biocbuild/BBS/utils/build-universal.sh ExiMiR_2.49.0.tar.gz /Library/Frameworks/R.framework/Resources/bin/R ExiMiR.buildbin-libdir StartedAt: 2025-02-17 00:20:32 -0500 (Mon, 17 Feb 2025) EndedAt: 2025-02-17 00:20:42 -0500 (Mon, 17 Feb 2025) EllapsedTime: 9.2 seconds RetCode: 0 Status: OK PackageFile: ExiMiR_2.49.0.tgz PackageFileSize: 1.352 MiB