Package: EventPointer Version: 3.15.0 Command: /Library/Frameworks/R.framework/Resources/bin/R CMD INSTALL EventPointer StartedAt: 2025-02-03 15:41:21 -0500 (Mon, 03 Feb 2025) EndedAt: 2025-02-03 15:42:30 -0500 (Mon, 03 Feb 2025) EllapsedTime: 69.5 seconds RetCode: 0 Status: OK