Package: EventPointer Version: 3.15.0 Command: /Library/Frameworks/R.framework/Resources/bin/R CMD build --keep-empty-dirs --no-resave-data EventPointer StartedAt: 2025-02-03 16:44:35 -0500 (Mon, 03 Feb 2025) EndedAt: 2025-02-03 16:45:59 -0500 (Mon, 03 Feb 2025) EllapsedTime: 83.5 seconds RetCode: 0 Status: OK PackageFile: EventPointer_3.15.0.tar.gz PackageFileSize: 1.642 MiB