Package: EventPointer Version: 3.17.0 Command: /Library/Frameworks/R.framework/Resources/bin/R CMD check --install=check:EventPointer.install-out.txt --library=/Library/Frameworks/R.framework/Resources/library --no-vignettes --timings EventPointer_3.17.0.tar.gz StartedAt: 2025-05-05 19:57:19 -0400 (Mon, 05 May 2025) EndedAt: 2025-05-05 19:59:47 -0400 (Mon, 05 May 2025) EllapsedTime: 148.9 seconds RetCode: 0 Status: OK CheckDir: EventPointer.Rcheck Warnings: 0