Package: EventPointer Version: 3.17.0 Command: /Library/Frameworks/R.framework/Resources/bin/R CMD build --keep-empty-dirs --no-resave-data EventPointer StartedAt: 2025-05-05 16:47:51 -0400 (Mon, 05 May 2025) EndedAt: 2025-05-05 16:48:26 -0400 (Mon, 05 May 2025) EllapsedTime: 34.4 seconds RetCode: 0 Status: OK PackageFile: EventPointer_3.17.0.tar.gz PackageFileSize: 1.642 MiB