Package: EpipwR Version: 1.1.0 Command: /Library/Frameworks/R.framework/Resources/bin/R CMD check --install=check:EpipwR.install-out.txt --library=/Library/Frameworks/R.framework/Resources/library --no-vignettes --timings EpipwR_1.1.0.tar.gz StartedAt: 2025-02-03 20:22:52 -0500 (Mon, 03 Feb 2025) EndedAt: 2025-02-03 20:25:37 -0500 (Mon, 03 Feb 2025) EllapsedTime: 164.8 seconds RetCode: 0 Status: OK CheckDir: EpipwR.Rcheck Warnings: 0