Package: EpipwR Version: 1.1.0 Command: /Library/Frameworks/R.framework/Resources/bin/R CMD INSTALL EpipwR StartedAt: 2025-02-03 15:44:29 -0500 (Mon, 03 Feb 2025) EndedAt: 2025-02-03 15:44:34 -0500 (Mon, 03 Feb 2025) EllapsedTime: 5.4 seconds RetCode: 0 Status: OK