Package: EpiTxDb Version: 1.21.1 Command: chmod a+r EpiTxDb -R && F:\biocbuild\bbs-3.22-bioc\R\bin\R.exe CMD build --keep-empty-dirs --no-resave-data EpiTxDb StartedAt: 2025-08-14 19:59:30 -0400 (Thu, 14 Aug 2025) EndedAt: 2025-08-14 20:02:53 -0400 (Thu, 14 Aug 2025) EllapsedTime: 203.4 seconds RetCode: 0 Status: OK PackageFile: EpiTxDb_1.21.1.tar.gz PackageFileSize: 698.1 KiB