Package: EpiTxDb Version: 1.19.0 Command: /Library/Frameworks/R.framework/Resources/bin/R CMD build --keep-empty-dirs --no-resave-data EpiTxDb StartedAt: 2025-02-02 16:35:47 -0500 (Sun, 02 Feb 2025) EndedAt: 2025-02-02 16:38:43 -0500 (Sun, 02 Feb 2025) EllapsedTime: 175.8 seconds RetCode: 0 Status: OK PackageFile: EpiTxDb_1.19.0.tar.gz PackageFileSize: 778.1 KiB