Package: EpiTxDb Version: 1.21.0 Maintainer: Felix G.M. Ernst MaintainerEmail: felix.gm.ernst at outlook.com git_url: https://git.bioconductor.org/packages/EpiTxDb git_branch: devel git_last_commit: 5481f31 git_last_commit_date: 2025-04-15 11:55:49 -0400 (Tue, 15 Apr 2025)