Package: EpiMix Version: 1.11.1 Command: chmod a+r EpiMix -R && F:\biocbuild\bbs-3.22-bioc\R\bin\R.exe CMD build --keep-empty-dirs --no-resave-data EpiMix StartedAt: 2025-08-14 19:57:18 -0400 (Thu, 14 Aug 2025) EndedAt: 2025-08-14 20:05:54 -0400 (Thu, 14 Aug 2025) EllapsedTime: 516.4 seconds RetCode: 0 Status: OK PackageFile: EpiMix_1.11.1.tar.gz PackageFileSize: 2.459 MiB