Package: EpiMix Version: 1.9.0 Command: chmod a+r EpiMix -R && E:\biocbuild\bbs-3.21-bioc\R\bin\R.exe CMD build --keep-empty-dirs --no-resave-data EpiMix StartedAt: 2025-02-20 18:37:15 -0500 (Thu, 20 Feb 2025) EndedAt: 2025-02-20 18:44:38 -0500 (Thu, 20 Feb 2025) EllapsedTime: 443.8 seconds RetCode: 0 Status: OK PackageFile: EpiMix_1.9.0.tar.gz PackageFileSize: 2.459 MiB