Package: EpiMix Version: 1.9.0 Command: /Library/Frameworks/R.framework/Resources/bin/R CMD build --keep-empty-dirs --no-resave-data EpiMix StartedAt: 2025-02-19 16:16:39 -0500 (Wed, 19 Feb 2025) EndedAt: 2025-02-19 16:19:15 -0500 (Wed, 19 Feb 2025) EllapsedTime: 155.6 seconds RetCode: 0 Status: OK PackageFile: EpiMix_1.9.0.tar.gz PackageFileSize: 2.902 MiB