Package: EpiDISH Version: 2.23.1 Command: /home/biocbuild/bbs-3.21-bioc/R/bin/R CMD INSTALL EpiDISH StartedAt: 2025-02-19 15:05:58 -0500 (Wed, 19 Feb 2025) EndedAt: 2025-02-19 15:06:04 -0500 (Wed, 19 Feb 2025) EllapsedTime: 5.2 seconds RetCode: 0 Status: OK