Package: EpiDISH Version: 2.23.1 Command: /home/biocbuild/bbs-3.21-bioc/R/bin/R CMD check --install=check:EpiDISH.install-out.txt --library=/home/biocbuild/bbs-3.21-bioc/R/site-library --timings EpiDISH_2.23.1.tar.gz StartedAt: 2025-02-20 21:49:07 -0500 (Thu, 20 Feb 2025) EndedAt: 2025-02-20 21:50:00 -0500 (Thu, 20 Feb 2025) EllapsedTime: 53.1 seconds RetCode: 0 Status: OK CheckDir: EpiDISH.Rcheck Warnings: 0